BEGIN:VCALENDAR
VERSION:2.0
PRODID:DPCALENDAR
CALSCALE:GREGORIAN
BEGIN:VTIMEZONE
TZID:Europe/Berlin
X-MICROSOFT-CDO-TZID:4
BEGIN:STANDARD
DTSTART:20251026T010000
TZOFFSETFROM:+0200
TZOFFSETTO:+0100
TZNAME:CET
END:STANDARD
BEGIN:STANDARD
DTSTART:20261025T010000
TZOFFSETFROM:+0200
TZOFFSETTO:+0100
TZNAME:CET
END:STANDARD
BEGIN:DAYLIGHT
DTSTART:20260329T010000
TZOFFSETFROM:+0100
TZOFFSETTO:+0200
TZNAME:CEST
END:DAYLIGHT
END:VTIMEZONE
X-WR-TIMEZONE:Europe/Berlin
BEGIN:VEVENT
DTSTART;TZID=Europe/Berlin:20230329T080000
DTEND;TZID=Europe/Berlin:20230329T130000
UID:2A494163-6658-45C5-A43C-747F6BAF7346
SUMMARY:Seh- und Reaktionsschule durch die VW (Dahl)
CREATED:20230317T195336Z
DTSTAMP:20230317T195336Z
URL:https://www.dueringerschule-olpe.de/aktuelles/terminkalender/seh-und-reaktionsschule-durch-die-verkehrswacht-nrw
LAST-MODIFIED:20230324T161356Z
SEQUENCE:591620
X-ACCESS:1
X-HITS:205
X-COLOR:edd817
X-SHOW-END-TIME:1
END:VEVENT
BEGIN:VEVENT
DTSTART;VALUE=DATE:20230515
DTEND;VALUE=DATE:20230516
UID:B33D307C-9B0D-4BBA-B006-56A48DCC8DDD
SUMMARY:Reihenuntersuchung "Schulzahnarzt" (Standort Dahl)
CREATED:20230307T175509Z
DTSTAMP:20230307T175509Z
URL:https://www.dueringerschule-olpe.de/aktuelles/terminkalender/reihenuntersuchung-schulzahnarzt
LAST-MODIFIED:20230307T175957Z
SEQUENCE:288
X-ACCESS:1
X-HITS:307
X-COLOR:edd817
X-SHOW-END-TIME:1
END:VEVENT
BEGIN:VEVENT
DTSTART;VALUE=DATE:20230621
DTEND;VALUE=DATE:20230622
UID:1A9F8B6E-02F2-4F6B-8731-B44C98763393
SUMMARY:letzter Schultag vor den Sommerferien (mit Wortgottesdienst für Klassen 2-4; um 10.00 Uhr in Dahl)
CREATED:20230307T181923Z
DTSTAMP:20230307T181923Z
URL:https://www.dueringerschule-olpe.de/aktuelles/terminkalender/letzter-schultag-vor-den-sommerferien-mit-wortgottesdienst-fuer-klassen-2-4-um-10-00-uhr-in-dahl
X-ACCESS:1
X-HITS:216
X-COLOR:edd817
X-SHOW-END-TIME:1
END:VEVENT
BEGIN:VEVENT
DTSTART;TZID=Europe/Berlin:20230809T090000
DTEND;TZID=Europe/Berlin:20230809T100000
UID:F99E50AD-36FD-4154-BEAC-799C28569E08
SUMMARY:Einschulungsgottesdienst in St. Marien Kirche Dahl
CREATED:20230807T150837Z
DTSTAMP:20230807T150837Z
URL:https://www.dueringerschule-olpe.de/aktuelles/terminkalender/einschulungsgottesdienst-in-st-marien-kirche-dahl
X-ACCESS:1
X-HITS:81
X-COLOR:edd817
X-SHOW-END-TIME:0
END:VEVENT
BEGIN:VEVENT
DTSTART;VALUE=DATE:20230823
DTEND;VALUE=DATE:20230824
UID:809BB797-3908-4238-B05E-C475359A285B
SUMMARY:Klassenpflegschaftssitzung Klasse 1d
CREATED:20230815T165847Z
DTSTAMP:20230815T165847Z
URL:https://www.dueringerschule-olpe.de/aktuelles/terminkalender/klassenpflegschaftssitzung-klasse-1d
X-ACCESS:1
X-HITS:75
X-COLOR:edd817
X-SHOW-END-TIME:0
END:VEVENT
BEGIN:VEVENT
DTSTART;TZID=Europe/Berlin:20231220T091500
DTEND;TZID=Europe/Berlin:20231220T101500
UID:C49B0BAF-2F72-43C3-87F0-7CA47C86AE8E
SUMMARY:Weihnachtsgottesdienst (Klassen 1,3 und 4) Dahl
CREATED:20231206T132418Z
DTSTAMP:20231206T132418Z
URL:https://www.dueringerschule-olpe.de/aktuelles/terminkalender/weihnachtsgottesdienst-klassen-1-3-und-4-dahl
X-ACCESS:1
X-HITS:160
X-COLOR:edd817
X-SHOW-END-TIME:0
END:VEVENT
BEGIN:VEVENT
DTSTART;TZID=Europe/Berlin:20240705T100000
DTEND;TZID=Europe/Berlin:20240705T110000
UID:4F53BFFD-10EF-48DB-B97C-1D31AA536254
SUMMARY:Abschlussgottesdienst um 10 Uhr in der St.Marien-Kirche (Dahl)
CREATED:20240618T161255Z
DTSTAMP:20240618T161255Z
URL:https://www.dueringerschule-olpe.de/aktuelles/terminkalender/abschlussgottesdienst-um-10-uhr-in-der-st-marien-kirche-dahl
X-ACCESS:1
X-HITS:442
X-COLOR:edd817
X-SHOW-END-TIME:0
END:VEVENT
BEGIN:VEVENT
DTSTART;TZID=Europe/Berlin:20240822T090000
DTEND;TZID=Europe/Berlin:20240822T120000
UID:93FF4CAC-5585-4F87-B57A-CF105275CD89
SUMMARY:Materialtag für Klasse 1d
CREATED:20240816T090642Z
DTSTAMP:20240816T090642Z
URL:https://www.dueringerschule-olpe.de/aktuelles/terminkalender/materialtag-fuer-klasse-1d
LAST-MODIFIED:20240816T090642Z
SEQUENCE:0
X-ACCESS:1
X-HITS:282
X-COLOR:edd817
X-SHOW-END-TIME:1
END:VEVENT
BEGIN:VEVENT
DTSTART;TZID=Europe/Berlin:20240823T090000
DTEND;TZID=Europe/Berlin:20240823T100000
UID:409F6B07-AC02-490E-80D5-EC00E099AE50
SUMMARY:Einschulung Klasse 1d (Einschulungsgottesdienst um 9.00 Uhr)
CREATED:20240816T093000Z
DTSTAMP:20240816T093000Z
URL:https://www.dueringerschule-olpe.de/aktuelles/terminkalender/einschulung-klasse-1d-einschulungsgottesdienst-um-9-00-uhr
LAST-MODIFIED:20240816T093000Z
SEQUENCE:0
X-ACCESS:1
X-HITS:353
X-COLOR:edd817
X-SHOW-END-TIME:0
END:VEVENT
BEGIN:VEVENT
DTSTART;VALUE=DATE:20250206
DTEND;VALUE=DATE:20250207
UID:CDD0467A-CB36-438C-B8D9-55A930C03D34
SUMMARY:Aktion Gesund im Mund für die Klassen 2d, 4d
CREATED:20250120T124159Z
DTSTAMP:20250120T124159Z
URL:https://www.dueringerschule-olpe.de/aktuelles/terminkalender/aktion-gesund-im-mund-fuer-die-klassen-2d-4d
DESCRIPTION:🦷🪥
X-ALT-DESC;FMTTYPE=text/html:<p>🦷🪥</p>
LAST-MODIFIED:20250120T124159Z
SEQUENCE:0
X-ACCESS:1
X-HITS:212
X-COLOR:edd817
X-SHOW-END-TIME:1
END:VEVENT
END:VCALENDAR